BEGIN:VCALENDAR
VERSION:2.0
PRODID:-//https://eruuf.org///NONSGML kigkonsult.se iCalcreator 2.10.15//
METHOD:PUBLISH
BEGIN:VEVENT
UID:20260423T224626UTC-4338Gieu07@https://eruuf.org/
DTSTAMP:20260423T224626Z
DESCRIPTION:Spirituality Without Truth Claims\nBritt Hartley is a “deconstr
 ucted Mormon” who now describes herself as an “atheist spiritual director.
 ” She emphasizes a lens that views religion as a cognitive technology that
  has had thousands of years to learn how to provide some elements that are
  critical to leading a meaningful life. She suggests that the secular comm
 unity has much to learn about meeting basic human needs such as providing 
 community\, facing existential fears\, honoring the rhythms of life\, and 
 providing moral education. She advocates for nonreligious people to steal 
 back “the good stuff” from religion. \nIn preparation for our session\, we
  recommend viewing Britt Hartley’s recent interview. It’s just under 40 mi
 nutes long and well worth your time. \nQuestions? Please reach out to the 
 Nontheist Group.  https://eruuf.org/calendar/calendar-view/event/15243-non
 theist-group.html
DTSTART:20260308T170000Z
DTEND:20260308T183000Z
LOCATION:ERUUF Commons Room (4907 Garrett Road)
SUMMARY:Nontheist Group
URL:https://eruuf.org/calendar/calendar-view/event/15243-nontheist-group.ht
 ml
END:VEVENT
END:VCALENDAR
