BEGIN:VCALENDAR
VERSION:2.0
PRODID:-//https://eruuf.org///NONSGML kigkonsult.se iCalcreator 2.10.15//
METHOD:PUBLISH
BEGIN:VEVENT
UID:20260420T070645UTC-9757vv67di@https://eruuf.org/
DTSTAMP:20260420T070645Z
DESCRIPTION:UU Christians look to the teachings of Jesus (not about Jesus) 
 as a source of wisdom and guidance in building the Beloved Community. The 
 group shares prayer\, reflections on Bible passages\, and thoughts on cont
 emporary writings of liberal Christians. Come join us! https://eruuf.org/c
 alendar/calendar-view/event/1525-eruuf-christian-fellowship.html
DTSTART:20170613T230000Z
DTEND:20170614T003000Z
LOCATION:Room 3 - CARE Building ()
SUMMARY:ERUUF Christian Fellowship
URL:https://eruuf.org/calendar/calendar-view/event/1525-eruuf-christian-fel
 lowship.html
END:VEVENT
END:VCALENDAR
