BEGIN:VCALENDAR
VERSION:2.0
PRODID:-//https://eruuf.org///NONSGML kigkonsult.se iCalcreator 2.10.15//
METHOD:PUBLISH
BEGIN:VEVENT
UID:20260422T134326UTC-76774TRJ1P@https://eruuf.org/
DTSTAMP:20260422T134326Z
DESCRIPTION:We will finish our organizational discussion from our September
  meeting. \nThis will be followed by discussion of the ideas presented in 
 a recent essay by Ezra Klein\, 'Why Jews No Longer Understand Each Other'.
  \nYou can view the spoken essay here.\nFor more information\, contact the
  ERUUF Jewish Fellowship.  https://eruuf.org/calendar/calendar-view/event/
 15277-jewish-fellowship-meeting.html
DTSTART:20251026T170000Z
DTEND:20251026T183000Z
LOCATION:Library - CARE Building ()
SUMMARY:Jewish Fellowship Meeting
URL:https://eruuf.org/calendar/calendar-view/event/15277-jewish-fellowship-
 meeting.html
END:VEVENT
END:VCALENDAR
