BEGIN:VCALENDAR
VERSION:2.0
PRODID:-//https://eruuf.org///NONSGML kigkonsult.se iCalcreator 2.10.15//
METHOD:PUBLISH
BEGIN:VEVENT
UID:20260423T120745UTC-8556O7kZaI@https://eruuf.org/
DTSTAMP:20260423T120745Z
DESCRIPTION:We will discuss the varied perspectives of Jews on Israel.\nFor
  more information\, contact the ERUUF Jewish Fellowship.  https://eruuf.or
 g/calendar/calendar-view/event/15279-jewish-fellowship-meeting.html
DTSTART:20251228T180000Z
DTEND:20251228T193000Z
LOCATION:Library - CARE Building ()
SUMMARY:Jewish Fellowship Meeting
URL:https://eruuf.org/calendar/calendar-view/event/15279-jewish-fellowship-
 meeting.html
END:VEVENT
END:VCALENDAR
