BEGIN:VCALENDAR
VERSION:2.0
PRODID:-//https://eruuf.org///NONSGML kigkonsult.se iCalcreator 2.10.15//
METHOD:PUBLISH
BEGIN:VEVENT
UID:20260421T204441UTC-0713lRjNgB@https://eruuf.org/
DTSTAMP:20260421T204441Z
DESCRIPTION:CANCELED DUE TO WEATHER.Please see E-news for information on th
 is event being rescheduled. \nWe will gather to connect and discuss whatev
 er is in our hearts and minds.\nFor more information\, contact the ERUUF J
 ewish Fellowship.  https://eruuf.org/calendar/calendar-view/event/15280-je
 wish-fellowship-meeting.html
DTSTART:20260125T180000Z
DTEND:20260125T193000Z
LOCATION:Library - CARE Building ()
SUMMARY:Jewish Fellowship Meeting - CANCELED
URL:https://eruuf.org/calendar/calendar-view/event/15280-jewish-fellowship-
 meeting.html
END:VEVENT
END:VCALENDAR
