BEGIN:VCALENDAR
VERSION:2.0
PRODID:-//https://eruuf.org///NONSGML kigkonsult.se iCalcreator 2.10.15//
METHOD:PUBLISH
BEGIN:VEVENT
UID:20260422T231240UTC-0380LG7tXW@https://eruuf.org/
DTSTAMP:20260422T231240Z
DESCRIPTION:This is the monthly meeting of the ERUUF Jewish Fellowship. We 
 talk about a variety of topics\, including what it means to be Jewish in t
 oday's world. All are welcome.\nFor more information\, contact the ERUUF J
 ewish Fellowship.  https://eruuf.org/calendar/calendar-view/event/15282-je
 wish-fellowship-meeting.html
DTSTART:20260329T170000Z
DTEND:20260329T183000Z
LOCATION:Library - CARE Building ()
SUMMARY:Jewish Fellowship Meeting
URL:https://eruuf.org/calendar/calendar-view/event/15282-jewish-fellowship-
 meeting.html
END:VEVENT
END:VCALENDAR
