BEGIN:VCALENDAR
VERSION:2.0
PRODID:-//https://eruuf.org///NONSGML kigkonsult.se iCalcreator 2.10.15//
METHOD:PUBLISH
BEGIN:VEVENT
UID:20260422T144827UTC-4733m5FVoP@https://eruuf.org/
DTSTAMP:20260422T144827Z
DESCRIPTION:All\, especially first timers\, are invited for book discussion
  and fellowship. This group meets over Zoom on the third Tuesday every mon
 th. \nFor more information and to receive the Zoom link\, reach out to the
  ERUUF Book Club. \nJune Book Discussion is Trust\, by Hernan Diaz\n \n\n
 \n\n\nJune 17\, 2025\n\nTrust\nHernan Diaz\n\n\n\nJuly 15\, 2025\n\n\nShel
 terwood\n\n\nAriel Lawhon\n\n\n\n\nAugust 19\, 2025\n\n\nTable for Two (sh
 ort stories)\n\n\nAmor Towles\n\n\n\n\nSeptember 16\, 2025\n\n\nAn Immense
  World (nonfiction science)\n\n\nEd Yong\n\n\n\n\nOctober 21\, 2025\n\n\nT
 he North Woods\n\n\nDaniel Mason\n\n\n\n\nNovember 18\, 2025\n\n\nThe Froz
 en River (a novel)\n\n\nLisa Wingate\n\n\n\n\nDecember 16 No Meeting Winte
 r Holidays\n\n\n\n\nJanuary 20\, 2026\n\n\nJames and The Adventures of Huc
 kleberry Finn\n\n\nPercival Everitt\; Mark Twain\n\n\n\n https://eruuf.org
 /calendar/calendar-view/event/15296-eruuf-book-club.html
DTSTART:20250617T230000Z
DTEND:20250618T003000Z
LOCATION:Online  (Online meetings are organized by the group leader. See th
 e meeting event details for information on how to join.)
SUMMARY:ERUUF Book Club
URL:https://eruuf.org/calendar/calendar-view/event/15296-eruuf-book-club.ht
 ml
END:VEVENT
END:VCALENDAR
