BEGIN:VCALENDAR
VERSION:2.0
PRODID:-//https://eruuf.org///NONSGML kigkonsult.se iCalcreator 2.10.15//
METHOD:PUBLISH
BEGIN:VEVENT
UID:20260423T171409UTC-2485528LRu@https://eruuf.org/
DTSTAMP:20260423T171409Z
DESCRIPTION:All\, especially first timers\, are invited for book discussion
  and fellowship. This group meets over Zoom on the third Tuesday every mon
 th. \nFor more information and to receive the Zoom link\, reach out to the
  ERUUF Book Club. \n \n\n\n\nJuly 15\, 2025\nShelterwood\nAriel Lawhon\n\n
 \n\nAugust 19\, 2025\n\n\nTable for Two (short stories)\n\n\nAmor Towles\n
 \n\n\n\nSeptember 16\, 2025\n\n\nAn Immense World (nonfiction science)\n\n
 \nEd Yong\n\n\n\n\nOctober 21\, 2025\n\n\nThe North Woods\n\n\nDaniel Maso
 n\n\n\n\n\nNovember 18\, 2025\n\n\nThe Frozen River (a novel)\n\n\nLisa Wi
 ngate\n\n\n\n\nDecember 16 No Meeting Winter Holidays\n\n\n\n\nJanuary 20\
 , 2026\n\n\nJames and The Adventures of Huckleberry Finn\n\n\nPercival Eve
 ritt\; Mark Twain\n\n\n\n https://eruuf.org/calendar/calendar-view/event/1
 5297-eruuf-book-club.html
DTSTART:20250715T230000Z
DTEND:20250716T003000Z
LOCATION:Online  (Online meetings are organized by the group leader. See th
 e meeting event details for information on how to join.)
SUMMARY:ERUUF Book Club
URL:https://eruuf.org/calendar/calendar-view/event/15297-eruuf-book-club.ht
 ml
END:VEVENT
END:VCALENDAR
