BEGIN:VCALENDAR
VERSION:2.0
PRODID:-//https://eruuf.org///NONSGML kigkonsult.se iCalcreator 2.10.15//
METHOD:PUBLISH
BEGIN:VEVENT
UID:20260424T095936UTC-1473n2tAVD@https://eruuf.org/
DTSTAMP:20260424T095936Z
DESCRIPTION: All\, especially first timers\, are invited for book discussio
 n and fellowship. This group meets over Zoom on the third Tuesday every mo
 nth.\nFor more information and to receive the Zoom link\, reach out to the
  ERUUF Book Club. \n\n\n\nAugust 19\, 2025\n\n\n \nTable for Two (Short St
 ories)\n\nAmor Towles\n\n\n\nSeptember 16\, 2025\n\n\nAn Immense World (no
 nfiction science)\n\n\nEd Yong\n\n\n\n\nOctober 21\, 2025\n\n\nThe North W
 oods\n\n\nDaniel Mason\n\n\n\n\nNovember 18\, 2025\n\n\nThe Frozen River (
 a novel)\n\n\nLisa Wingate\n\n\n\n\nDecember 16 No Meeting Winter Holidays
 \n\n\n\n\nJanuary 20\, 2026\n\n\nJames and The Adventures of Huckleberry F
 inn\n\n\nPercival Everitt\; Mark Twain\n\n\n\n\n  https://eruuf.org/calend
 ar/calendar-view/event/15298-eruuf-book-club.html
DTSTART:20250819T230000Z
DTEND:20250820T003000Z
LOCATION:Online  (Online meetings are organized by the group leader. See th
 e meeting event details for information on how to join.)
SUMMARY:ERUUF Book Club
URL:https://eruuf.org/calendar/calendar-view/event/15298-eruuf-book-club.ht
 ml
END:VEVENT
END:VCALENDAR
