BEGIN:VCALENDAR
VERSION:2.0
PRODID:-//https://eruuf.org///NONSGML kigkonsult.se iCalcreator 2.10.15//
METHOD:PUBLISH
BEGIN:VEVENT
UID:20260423T022516UTC-6581IFJUVO@https://eruuf.org/
DTSTAMP:20260423T022516Z
DESCRIPTION:All\, especially first timers\, are invited for book discussion
  and fellowship. This group meets over Zoom on the third Tuesday every mon
 th. \nFor more information and to receive the Zoom link\, reach out to the
  ERUUF Book Club. \n \n\n\n\nSeptember 16\, 2025\n\n\n\nEd Yong\n\n\n\nOct
 ober 21\, 2025\n\n\nThe North Woods\n\n\nDaniel Mason\n\n\n\n\nNovember 18
 \, 2025\n\n\nThe Frozen River (a novel)\n\n\nLisa Wingate\n\n\n\n\nDecembe
 r 16 No Meeting Winter Holidays\n\n\n\n\nJanuary 20\, 2026\n\n\nJames and 
 The Adventures of Huckleberry Finn\n\n\nPercival Everitt\; Mark Twain\n\n
 \n\n\n  https://eruuf.org/calendar/calendar-view/event/15299-eruuf-book-cl
 ub.html
DTSTART:20250916T230000Z
DTEND:20250917T003000Z
LOCATION:Online  (Online meetings are organized by the group leader. See th
 e meeting event details for information on how to join.)
SUMMARY:ERUUF Book Club
URL:https://eruuf.org/calendar/calendar-view/event/15299-eruuf-book-club.ht
 ml
END:VEVENT
END:VCALENDAR
