BEGIN:VCALENDAR
VERSION:2.0
PRODID:-//https://eruuf.org///NONSGML kigkonsult.se iCalcreator 2.10.15//
METHOD:PUBLISH
BEGIN:VEVENT
UID:20260421T080642UTC-1519L6K9a9@https://eruuf.org/
DTSTAMP:20260421T080642Z
DESCRIPTION:All\, especially first timers\, are invited for book discussion
  and fellowship. This group meets over Zoom on the third Tuesday every mon
 th. \nFor more information and to receive the Zoom link\, reach out to the
  ERUUF Book Club. \n \n\n\n\n\nNovember 18\, 2025\n\n\nThe Frozen River (a
  novel)\n\n\nLisa Wingate\n\n\n\n\nDecember 16 No Meeting Winter Holidays
 \n\n\n\n\nJanuary 20\, 2026\n\n\nJames and The Adventures of Huckleberry F
 inn\n\n\nPercival Everitt\; Mark Twain\n\n\n\nFebruary 17\, 2026\nHow to S
 ay Babylon\nSafyia Sinclair\n\n\nMarch 17\, 2026\nThe Invention of Nature:
  Alexander von Humboldt\nAndrea Wulf\n\n\n\n  https://eruuf.org/calendar/c
 alendar-view/event/15301-eruuf-book-club.html
DTSTART:20251119T000000Z
DTEND:20251119T013000Z
LOCATION:Online  (Online meetings are organized by the group leader. See th
 e meeting event details for information on how to join.)
SUMMARY:ERUUF Book Club
URL:https://eruuf.org/calendar/calendar-view/event/15301-eruuf-book-club.ht
 ml
END:VEVENT
END:VCALENDAR
