BEGIN:VCALENDAR
VERSION:2.0
PRODID:-//https://eruuf.org///NONSGML kigkonsult.se iCalcreator 2.10.15//
METHOD:PUBLISH
BEGIN:VEVENT
UID:20260422T010545UTC-5029uRfbzU@https://eruuf.org/
DTSTAMP:20260422T010545Z
DESCRIPTION:All\, especially first timers\, are invited for book discussion
  and fellowship. This group meets over Zoom on the third Tuesday every mon
 th. \nFor more information and to receive the Zoom link\, reach out to the
  ERUUF Book Club. \n  https://eruuf.org/calendar/calendar-view/event/15303
 -eruuf-book-club.html
DTSTART:20260121T000000Z
DTEND:20260121T013000Z
LOCATION:Online  (Online meetings are organized by the group leader. See th
 e meeting event details for information on how to join.)
SUMMARY:ERUUF Book Club
URL:https://eruuf.org/calendar/calendar-view/event/15303-eruuf-book-club.ht
 ml
END:VEVENT
END:VCALENDAR
