BEGIN:VCALENDAR
VERSION:2.0
PRODID:-//https://eruuf.org///NONSGML kigkonsult.se iCalcreator 2.10.15//
METHOD:PUBLISH
BEGIN:VEVENT
UID:20260419T235815UTC-8273jmxtzB@https://eruuf.org/
DTSTAMP:20260419T235815Z
DESCRIPTION:A self-guided group of singers and acoustic instrumentalists.\n
 Our group is grounded in the folk style\, with songs chosen and arranged b
 y group members. \nEmail River Folk for more information!  https://eruuf.o
 rg/calendar/calendar-view/event/15355-river-folk-rehearsal.html
DTSTART:20260113T000000Z
DTEND:20260113T013000Z
LOCATION:ERUUF Fellowship Hall (4907 Garrett Road)
SUMMARY:River Folk Rehearsal
URL:https://eruuf.org/calendar/calendar-view/event/15355-river-folk-rehears
 al.html
END:VEVENT
END:VCALENDAR
