BEGIN:VCALENDAR
VERSION:2.0
PRODID:-//https://eruuf.org///NONSGML kigkonsult.se iCalcreator 2.10.15//
METHOD:PUBLISH
BEGIN:VEVENT
UID:20260424T075227UTC-0107VIEiai@https://eruuf.org/
DTSTAMP:20260424T075227Z
DESCRIPTION:This is a very exciting opportunity to show up for our trans ki
 n\, particularly trans women. ERUUF Pride+ will have a table at this event
  to share information about our spiritual community. Help us continue to p
 ush back against narratives that fuel anti-trans legislation across the co
 untry and around the world. Brought to you with love and solidarity by Sta
 nd Up for Trans Women at Duke\, Dormant Plant Parlor\, Radical Healing\, L
 GBTQ Center of Durham\, and Pauli Murray Center for History and Social Jus
 tice. There will be a great line up of music\, drag performers\, speakers 
 and over 60 vendors to acknowledge the campaign for the ongoing fight for 
 trans rights in Durham and beyond. Organizers are partnering with Isabel L
 u to create a participatory art project that will be integrated into a mur
 al that will live on in the Trans Celebration Garden right here in Durham 
 on the main Radical Healing campus. https://eruuf.org/calendar/calendar-vi
 ew/event/15379-resisters-a-festival-centering-trans-women.html
DTSTART:20250615T180000Z
DTEND:20250615T220000Z
LOCATION:Radical Healing\, 2011 Chapel Hill Road (across from the Lakewood 
 Shopping Center) (2011 Chapel Hill Road\, Durham\, NC 27707)
SUMMARY:ReSISTERS: A Festival Centering Trans Women
URL:https://eruuf.org/calendar/calendar-view/event/15379-resisters-a-festiv
 al-centering-trans-women.html
END:VEVENT
END:VCALENDAR
