BEGIN:VCALENDAR
VERSION:2.0
PRODID:-//https://eruuf.org///NONSGML kigkonsult.se iCalcreator 2.10.15//
METHOD:PUBLISH
BEGIN:VEVENT
UID:20260424T101644UTC-7187eespVi@https://eruuf.org/
DTSTAMP:20260424T101644Z
DESCRIPTION:Learn the fundamentals of Tai Chi with relaxing and energizing 
 exercises. We will 'move to feel'\, learn that 'less is more' and explore 
 yin and yang in action. Classes will be outside when weather permits. Clas
 s taught by Nancy Couts.\nFor more information\, please send an email to N
 ancy Couts.  https://eruuf.org/calendar/calendar-view/event/15383-tai-chi-
 for-health-and-wellbeing.html
DTSTART:20250709T180000Z
DTEND:20250709T190000Z
LOCATION:Commons Room   (4907 Garrett Rd\, Durham\, NC 27707  )
SUMMARY:Tai Chi for Health and Wellbeing
URL:https://eruuf.org/calendar/calendar-view/event/15383-tai-chi-for-health
 -and-wellbeing.html
END:VEVENT
END:VCALENDAR
