BEGIN:VCALENDAR
VERSION:2.0
PRODID:-//https://eruuf.org///NONSGML kigkonsult.se iCalcreator 2.10.15//
METHOD:PUBLISH
BEGIN:VEVENT
UID:20260425T032152UTC-7829HwESzd@https://eruuf.org/
DTSTAMP:20260425T032152Z
DESCRIPTION:Learn the fundamentals of Tai Chi with relaxing and energizing 
 exercises. We will 'move to feel'\, learn that 'less is more' and explore 
 yin and yang in action. Classes will be outside when weather permits. Clas
 s taught by Nancy Couts.\nFor more information\, please send an email to N
 ancy Couts.  https://eruuf.org/calendar/calendar-view/event/15395-tai-chi-
 for-health-and-wellbeing.html
DTSTART:20251001T180000Z
DTEND:20251001T190000Z
LOCATION:Commons Room   (4907 Garrett Rd\, Durham\, NC 27707  )
SUMMARY:Tai Chi for Health and Wellbeing
URL:https://eruuf.org/calendar/calendar-view/event/15395-tai-chi-for-health
 -and-wellbeing.html
END:VEVENT
END:VCALENDAR
