BEGIN:VCALENDAR
VERSION:2.0
PRODID:-//https://eruuf.org///NONSGML kigkonsult.se iCalcreator 2.10.15//
METHOD:PUBLISH
BEGIN:VEVENT
UID:20260425T040728UTC-1104U8Oxkt@https://eruuf.org/
DTSTAMP:20260425T040728Z
DESCRIPTION:The January 28\, 2026 class has been canceled due to weather.\n
 Learn the fundamentals of Tai Chi with relaxing and energizing exercises. 
 We will 'move to feel'\, learn that 'less is more' and explore yin and yan
 g in action. Classes will be outside when weather permits. Class taught by
  Nancy Couts.\nFor more information\, please send an email to Nancy Couts.
   https://eruuf.org/calendar/calendar-view/event/15412-tai-chi-for-health-
 and-wellbeing.html
DTSTART:20260128T190000Z
DTEND:20260128T200000Z
LOCATION:ERUUF Fellowship Hall (4907 Garrett Road)
SUMMARY:Tai Chi for Health and Wellbeing -- CANCELED 1/28
URL:https://eruuf.org/calendar/calendar-view/event/15412-tai-chi-for-health
 -and-wellbeing.html
END:VEVENT
END:VCALENDAR
