BEGIN:VCALENDAR
VERSION:2.0
PRODID:-//https://eruuf.org///NONSGML kigkonsult.se iCalcreator 2.10.15//
METHOD:PUBLISH
BEGIN:VEVENT
UID:20260421T062545UTC-03438vSVvU@https://eruuf.org/
DTSTAMP:20260421T062545Z
DESCRIPTION:\n \nHave a craft project you've been meaning to pick back up? 
 Join the 20s & 30s group for an afternoon of crafting on July 12. We'll ha
 ve supplies available to weave old school friendship bracelets\, but you'r
 e also welcome to bring your own project. See you for a chill crafternoon!
  RSVP to the GroupMe or 20sand30s@eruuf.org. https://eruuf.org/calendar/ca
 lendar-view/event/15431-20s-30s-make-friendship-bracelets.html
DTSTART:20250712T170000Z
DTEND:20250712T200000Z
LOCATION:Commons Room   (4907 Garrett Rd\, Durham\, NC 27707  )
SUMMARY:20s & 30s Crafternoon
URL:https://eruuf.org/calendar/calendar-view/event/15431-20s-30s-make-frien
 dship-bracelets.html
END:VEVENT
END:VCALENDAR
