BEGIN:VCALENDAR
VERSION:2.0
PRODID:-//https://eruuf.org///NONSGML kigkonsult.se iCalcreator 2.10.15//
METHOD:PUBLISH
BEGIN:VEVENT
UID:20260421T130301UTC-5386iIlBX1@https://eruuf.org/
DTSTAMP:20260421T130301Z
DESCRIPTION:\nAll are welcome (LGBTQ+ and allies). If you wish\, bring any 
 board or card game that you enjoy. You can bring your own drinks (no alcoh
 ol please) and snacks.\n \nFor more information\, please contact Evelyn St
 uder. https://eruuf.org/calendar/calendar-view/event/15434-pride-games-nig
 ht.html
DTSTART:20250718T230000Z
DTEND:20250719T010000Z
LOCATION:Commons Room   (4907 Garrett Rd\, Durham\, NC 27707  )
SUMMARY:Pride+ Games Night
URL:https://eruuf.org/calendar/calendar-view/event/15434-pride-games-night.
 html
END:VEVENT
END:VCALENDAR
