BEGIN:VCALENDAR
VERSION:2.0
PRODID:-//https://eruuf.org///NONSGML kigkonsult.se iCalcreator 2.10.15//
METHOD:PUBLISH
BEGIN:VEVENT
UID:20260420T220845UTC-4040BjHbUK@https://eruuf.org/
DTSTAMP:20260420T220845Z
DESCRIPTION:Please join us on Sunday\, July 6 at 3 pm if you’d like to conn
 ect with Pride+ for an informal chat. To receive the Zoom link send an ema
 il to pride@eruuf.org. https://eruuf.org/calendar/calendar-view/event/1543
 8-pride-zoom-chat.html
DTSTART:20250706T190000Z
DTEND:20250706T200000Z
LOCATION:Zoom Meeting ()
SUMMARY:Pride+ Zoom Chat
URL:https://eruuf.org/calendar/calendar-view/event/15438-pride-zoom-chat.ht
 ml
END:VEVENT
END:VCALENDAR
