BEGIN:VCALENDAR
VERSION:2.0
PRODID:-//https://eruuf.org///NONSGML kigkonsult.se iCalcreator 2.10.15//
METHOD:PUBLISH
BEGIN:VEVENT
UID:20260421T050903UTC-4405cvzTxa@https://eruuf.org/
DTSTAMP:20260421T050903Z
DESCRIPTION:The Shelter Action Group is serving a meal to 18 people at Fami
 lies Moving Forward! Here's how you can help. Shelter Action Group still n
 eeds the following food items: \n\n\n18 dinner rolls\n\n\nveggie plate wit
 h a bottle of Hidden Valley dressing to use as a dip\n\n\nFood can be brou
 ght to Families Moving Forward (300 N. Queen St.\, Durham\, NC 27701) by 5
 pm.\nOther FMF needs:\n\n15-20 person van to borrow for Camp Phoenix\, wee
 k of July 15th - 19th\nPots and pans - new or gently used - for families w
 ho arrive without these\nFinancial donations to protect FMF from federal c
 uts\; donations can be made through the website: fmfnc.org\n\n \nPlease co
 ntact Jane Hewitt for more information.\nHelp Shelter Action Group keep ho
 melessness at the forefront of Durham officials' awareness and agenda! htt
 ps://eruuf.org/calendar/calendar-view/event/15441-families-moving-forward-
 meal.html
DTSTART:20250724T210000Z
DTEND:20250724T223000Z
LOCATION:Families Moving Forward  (300 N Queen St\, Durham\, NC 27701\, USA
 )
SUMMARY:Families Moving Forward Meal
URL:https://eruuf.org/calendar/calendar-view/event/15441-families-moving-fo
 rward-meal.html
END:VEVENT
END:VCALENDAR
