BEGIN:VCALENDAR
VERSION:2.0
PRODID:-//https://eruuf.org///NONSGML kigkonsult.se iCalcreator 2.10.15//
METHOD:PUBLISH
BEGIN:VEVENT
UID:20260420T153237UTC-9153ibzE1g@https://eruuf.org/
DTSTAMP:20260420T153237Z
DESCRIPTION:Community chorus open to all. No audition required!\nPlease con
 tact the Music Director\, Wendy Looker\, for more information. https://eru
 uf.org/calendar/calendar-view/event/15448-eno-river-singers-rehearsal.html
DTSTART:20250918T230000Z
DTEND:20250919T003000Z
LOCATION:Sanctuary - ERUUF   (4907 Garrett Road\, Durham\, NC 27707  )
SUMMARY:Eno River Singers Rehearsal
URL:https://eruuf.org/calendar/calendar-view/event/15448-eno-river-singers-
 rehearsal.html
END:VEVENT
END:VCALENDAR
