BEGIN:VCALENDAR
VERSION:2.0
PRODID:-//https://eruuf.org///NONSGML kigkonsult.se iCalcreator 2.10.15//
METHOD:PUBLISH
BEGIN:VEVENT
UID:20260421T061535UTC-2727Mc69XP@https://eruuf.org/
DTSTAMP:20260421T061535Z
DESCRIPTION:Join the village of people in their twenties and thirties for a
  low key\, social game of Werewolf and spooky snacks. We’ll see if we can 
 survive a few “nights” and catch the predator! That is . . . unless you’re
  the werewolf . . .\nFor more information\, contact Mary Katherine Beam. h
 ttps://eruuf.org/calendar/calendar-view/event/15486-20-s-30-s-group-meetin
 g.html
DTSTART:20250802T170000Z
DTEND:20250802T190000Z
LOCATION:Commons Room   (4907 Garrett Rd\, Durham\, NC 27707  )
SUMMARY:20's & 30's Group: Werewolf
URL:https://eruuf.org/calendar/calendar-view/event/15486-20-s-30-s-group-me
 eting.html
END:VEVENT
END:VCALENDAR
