BEGIN:VCALENDAR
VERSION:2.0
PRODID:-//https://eruuf.org///NONSGML kigkonsult.se iCalcreator 2.10.15//
METHOD:PUBLISH
BEGIN:VEVENT
UID:20260425T161349UTC-914836VihP@https://eruuf.org/
DTSTAMP:20260425T161349Z
DESCRIPTION:Did you know it takes a small village of over 100 ERUUFians see
  to the smooth running of Sunday mornings throughout the program year?\nVo
 lunteers who work on Sundays throughout the year\, along with those intere
 sted in volunteering on a team\, gather for an annual lunch and training w
 ith their teams: Coffee Team\, Visitor Hosts\, Flower Team\, Greeters\, So
 und & Tech Teams\, Worship Associates\, Volunteer Cantors & Children Choir
  Leaders.Want to find out how you can get involved? Join us for the annual
  gathering of Sunday Teams\, lunch included.\nRSVP Here\nQuestions? Contac
 t Michele Sager. https://eruuf.org/calendar/calendar-view/event/15488-sund
 ay-teams-lunch-training.html
DTSTART:20250817T163000Z
DTEND:20250817T180000Z
LOCATION:ERUUF Fellowship Hall (4907 Garrett Road)
SUMMARY:Sunday Teams Lunch & Training
URL:https://eruuf.org/calendar/calendar-view/event/15488-sunday-teams-lunch
 -training.html
END:VEVENT
END:VCALENDAR
