BEGIN:VCALENDAR
VERSION:2.0
PRODID:-//https://eruuf.org///NONSGML kigkonsult.se iCalcreator 2.10.15//
METHOD:PUBLISH
BEGIN:VEVENT
UID:20260423T172254UTC-6995fn7Jl3@https://eruuf.org/
DTSTAMP:20260423T172254Z
DESCRIPTION:Spiritual Practices Retreat. Details to come. https://eruuf.org
 /calendar/calendar-view/event/15489-spiritual-practices-retreat.html
DTSTART:20251018T130000Z
DTEND:20251018T200000Z
LOCATION:Sanctuary - ERUUF   (4907 Garrett Road\, Durham\, NC 27707  )
SUMMARY:Spiritual Practices Retreat
URL:https://eruuf.org/calendar/calendar-view/event/15489-spiritual-practice
 s-retreat.html
END:VEVENT
END:VCALENDAR
