BEGIN:VCALENDAR
VERSION:2.0
PRODID:-//https://eruuf.org///NONSGML kigkonsult.se iCalcreator 2.10.15//
METHOD:PUBLISH
BEGIN:VEVENT
UID:20260421T010552UTC-9207DtJD87@https://eruuf.org/
DTSTAMP:20260421T010552Z
DESCRIPTION:\n \n \nInterested in a social group for transgender\, gender n
 on-conforming\, and questioning ERUUFians?\nJoin us in the Commons Room of
  the CARE Building to socialize and collaborate as we launch this group. L
 ight snacks will be available. If you need childcare to attend\, please em
 ail pride@eruuf.org. https://eruuf.org/calendar/calendar-view/event/15521-
 trans-affinity-group-pride-meeting.html
DTSTART:20250907T163039Z
DTEND:20250907T173000Z
LOCATION:Commons Room   (4907 Garrett Rd\, Durham\, NC 27707  )
SUMMARY:Trans Affinity Group (Pride+) Meeting
URL:https://eruuf.org/calendar/calendar-view/event/15521-trans-affinity-gro
 up-pride-meeting.html
END:VEVENT
END:VCALENDAR
