BEGIN:VCALENDAR
VERSION:2.0
PRODID:-//https://eruuf.org///NONSGML kigkonsult.se iCalcreator 2.10.15//
METHOD:PUBLISH
BEGIN:VEVENT
UID:20260421T010402UTC-0494NbFjOO@https://eruuf.org/
DTSTAMP:20260421T010402Z
DESCRIPTION:Pride+ Games Night. All are welcome (LGBTQ+ and allies). If you
  wish\, bring any board or card game that you enjoy. You can bring your ow
 n drinks (no alcohol please) and snacks.\nFor more information\, please co
 ntact Evelyn Studer. https://eruuf.org/calendar/calendar-view/event/15522-
 pride-games-night.html
DTSTART:20250815T230000Z
DTEND:20250816T010000Z
LOCATION:Fellowship Hall   ()
SUMMARY:Pride+ Games Night
URL:https://eruuf.org/calendar/calendar-view/event/15522-pride-games-night.
 html
END:VEVENT
END:VCALENDAR
