BEGIN:VCALENDAR
VERSION:2.0
PRODID:-//https://eruuf.org///NONSGML kigkonsult.se iCalcreator 2.10.15//
METHOD:PUBLISH
BEGIN:VEVENT
UID:20260420T172954UTC-6162ZBU1kn@https://eruuf.org/
DTSTAMP:20260420T172954Z
DESCRIPTION:Join us for an informal Zoom chat on Sunday August 3 at 3 pm. T
 o receive the Zoom link send an email to pride@eruuf.org. https://eruuf.or
 g/calendar/calendar-view/event/15523-pride-zoom-chat.html
DTSTART:20250803T190000Z
DTEND:20250803T200000Z
LOCATION:Zoom Meeting ()
SUMMARY:Pride+ Zoom Chat
URL:https://eruuf.org/calendar/calendar-view/event/15523-pride-zoom-chat.ht
 ml
END:VEVENT
END:VCALENDAR
