BEGIN:VCALENDAR
VERSION:2.0
PRODID:-//https://eruuf.org///NONSGML kigkonsult.se iCalcreator 2.10.15//
METHOD:PUBLISH
BEGIN:VEVENT
UID:20260421T055055UTC-0868VRebbN@https://eruuf.org/
DTSTAMP:20260421T055055Z
DESCRIPTION:\n \n \n \n \n \nDid you know that we have a bin in the office 
 for shelf-stable food that goes to the Urban Ministries of Durham’s Food P
 antry? This food is distributed to families and individuals who are strugg
 ling to feed themselves and their families. With the recent government cut
 -backs\, food banks and pantries are struggling to make up the difference.
  We can help. Sundays there will also be a collection bin in the Fellowshi
 p Hall for you to drop off your donations.\nThis week’s greatest needs:\n
 \nPeanut butter\nPasta Sauce (no glass jars)\nCanned pasta\nCanned meats (
 chicken\, tuna)\n\nFor more information\, contact Shelter Action Teams. ht
 tps://eruuf.org/calendar/calendar-view/event/15529-food-pantry-drive-at-ur
 ban-ministries.html
DTSTART;VALUE=DATE:20250817
LOCATION:Fellowship Hall   ()
SUMMARY:Food Pantry Drive at Urban Ministries
URL:https://eruuf.org/calendar/calendar-view/event/15529-food-pantry-drive-
 at-urban-ministries.html
END:VEVENT
END:VCALENDAR
