BEGIN:VCALENDAR
VERSION:2.0
PRODID:-//https://eruuf.org///NONSGML kigkonsult.se iCalcreator 2.10.15//
METHOD:PUBLISH
BEGIN:VEVENT
UID:20260421T040838UTC-2276SR6Ngw@https://eruuf.org/
DTSTAMP:20260421T040838Z
DESCRIPTION:\n \n \n \n \n \n \n \nDid you know that we have a bin in the o
 ffice for shelf-stable food that goes to the Urban Ministries of Durham’s 
 Food Pantry? This food is distributed to families and individuals who are 
 struggling to feed themselves and their families. With the recent governme
 nt cut-backs\, food banks and pantries are struggling to make up the diffe
 rence. We can help. Sundays there will also be a collection bin in the Fel
 lowship Hall for you to drop off your donations.\nThis week’s greatest nee
 ds:\n\nPeanut butter\nPasta Sauce (no glass jars)\nCanned pasta\nCanned me
 ats (chicken\, tuna)\n\nFor more information\, contact Shelter Action Team
 s. https://eruuf.org/calendar/calendar-view/event/15530-food-pantry-drive-
 at-urban-ministries.html
DTSTART;VALUE=DATE:20250824
LOCATION:Fellowship Hall   ()
SUMMARY:Food Pantry Drive at Urban Ministries
URL:https://eruuf.org/calendar/calendar-view/event/15530-food-pantry-drive-
 at-urban-ministries.html
END:VEVENT
END:VCALENDAR
