BEGIN:VCALENDAR
VERSION:2.0
PRODID:-//https://eruuf.org///NONSGML kigkonsult.se iCalcreator 2.10.15//
METHOD:PUBLISH
BEGIN:VEVENT
UID:20260420T232936UTC-1946nSpCr8@https://eruuf.org/
DTSTAMP:20260420T232936Z
DESCRIPTION:All are welcome (LGBTQ+ and allies). If you wish\, bring your o
 wn games\, drinks (no alcohol please) and snacks.\nFor more information\, 
 please contact Evelyn Studer. https://eruuf.org/calendar/calendar-view/eve
 nt/15589-pride-games-night.html
DTSTART:20250919T230031Z
DTEND:20250920T010000Z
LOCATION:Commons Room   (4907 Garrett Rd\, Durham\, NC 27707  )
SUMMARY:Pride+ Games Night
URL:https://eruuf.org/calendar/calendar-view/event/15589-pride-games-night.
 html
END:VEVENT
END:VCALENDAR
