BEGIN:VCALENDAR
VERSION:2.0
PRODID:-//https://eruuf.org///NONSGML kigkonsult.se iCalcreator 2.10.15//
METHOD:PUBLISH
BEGIN:VEVENT
UID:20260421T024134UTC-5742sLVjSs@https://eruuf.org/
DTSTAMP:20260421T024134Z
DESCRIPTION:The 9:00 am - 10:00 am service is our contemplative\, more quie
 t service.\nMasks are optional for in-person attendance by congregants and
  participants. \nFor more information about service each week\, subscribe 
 to our weekly E-News.  https://eruuf.org/calendar/calendar-view/event/1563
 0-sunday-service-9am.html
DTSTART:20251221T140000Z
DTEND:20251221T145000Z
LOCATION:Sanctuary - ERUUF   (4907 Garrett Road\, Durham\, NC 27707  )
SUMMARY:Sunday Service (9am)
URL:https://eruuf.org/calendar/calendar-view/event/15630-sunday-service-9am
 .html
END:VEVENT
END:VCALENDAR
