BEGIN:VCALENDAR
VERSION:2.0
PRODID:-//https://eruuf.org///NONSGML kigkonsult.se iCalcreator 2.10.15//
METHOD:PUBLISH
BEGIN:VEVENT
UID:20260419T162522UTC-5920Ihv8WE@https://eruuf.org/
DTSTAMP:20260419T162522Z
DESCRIPTION:The 11:00 am – 12:10 pm service will offer a more traditional-s
 tyle service.\nWe welcome you to attend in-person or online. The service w
 ill be livestreamed on YouTube and Facebook Live.\nMasks are optional for 
 in-person attendance by congregants and participants.\nFor more informatio
 n about the service\, subscribe to our weekly E-News.  https://eruuf.org/c
 alendar/calendar-view/event/15662-sunday-service-11am.html
DTSTART:20251130T160000Z
DTEND:20251130T171000Z
LOCATION:Sanctuary - ERUUF   (4907 Garrett Road\, Durham\, NC 27707  )
SUMMARY:Sunday Service (11am)
URL:https://eruuf.org/calendar/calendar-view/event/15662-sunday-service-11a
 m.html
END:VEVENT
END:VCALENDAR
