BEGIN:VCALENDAR
VERSION:2.0
PRODID:-//https://eruuf.org///NONSGML kigkonsult.se iCalcreator 2.10.15//
METHOD:PUBLISH
BEGIN:VEVENT
UID:20260419T132910UTC-3501iEWB9v@https://eruuf.org/
DTSTAMP:20260419T132910Z
DESCRIPTION:DECEMBER 14 is LESSONS & CAROLS\n______________________________
 ___________________________\nThe 11:00 am – 12:10 pm service will offer a 
 more traditional-style service.\nWe welcome you to attend in-person or onl
 ine. The service will be livestreamed on YouTube and Facebook Live.\nMasks
  are optional for in-person attendance by congregants and participants.\nF
 or more information about the service\, subscribe to our weekly E-News.  h
 ttps://eruuf.org/calendar/calendar-view/event/15664-sunday-service-11am.ht
 ml
DTSTART:20251214T160000Z
DTEND:20251214T171000Z
LOCATION:Sanctuary - ERUUF   (4907 Garrett Road\, Durham\, NC 27707  )
SUMMARY:Sunday Service (11am)
URL:https://eruuf.org/calendar/calendar-view/event/15664-sunday-service-11a
 m.html
END:VEVENT
END:VCALENDAR
