BEGIN:VCALENDAR
VERSION:2.0
PRODID:-//https://eruuf.org///NONSGML kigkonsult.se iCalcreator 2.10.15//
METHOD:PUBLISH
BEGIN:VEVENT
UID:20260420T161114UTC-3808HuKgOV@https://eruuf.org/
DTSTAMP:20260420T161114Z
DESCRIPTION:Are you in Grades K - 3 and want to join the Sunshine Kids? Joi
 n us starting Sun.\, Sept. 7 between services.\nFor more information\, ple
 ase email sunshinekids@eruuf.org. https://eruuf.org/calendar/calendar-view
 /event/15769-sunshine-kids-choir-rehearsal.html
DTSTART:20251012T141500Z
DTEND:20251012T144500Z
LOCATION:ERUUF Campus   (4907 Garrett Rd\, Durham\, NC 27707    )
SUMMARY:Sunshine Kids Choir Rehearsal
URL:https://eruuf.org/calendar/calendar-view/event/15769-sunshine-kids-choi
 r-rehearsal.html
END:VEVENT
END:VCALENDAR
