BEGIN:VCALENDAR
VERSION:2.0
PRODID:-//https://eruuf.org///NONSGML kigkonsult.se iCalcreator 2.10.15//
METHOD:PUBLISH
BEGIN:VEVENT
UID:20260420T045229UTC-2926TbfR5U@https://eruuf.org/
DTSTAMP:20260420T045229Z
DESCRIPTION:SUN.\, JAN. 25 IS CANCELED DUE TO WEATHER.\nAre you in Grades K
  - 3 and want to join the Sunshine Kids? Join us starting Sun.\, Sept. 7 b
 etween services.\nFor more information\, please email sunshinekids@eruuf.o
 rg. https://eruuf.org/calendar/calendar-view/event/15784-sunshine-kids-cho
 ir-rehearsal.html
DTSTART:20260125T151500Z
DTEND:20260125T154500Z
LOCATION:ERUUF Campus   (4907 Garrett Rd\, Durham\, NC 27707    )
SUMMARY:Sunshine Kids Choir Rehearsal - CANCELED
URL:https://eruuf.org/calendar/calendar-view/event/15784-sunshine-kids-choi
 r-rehearsal.html
END:VEVENT
END:VCALENDAR
