BEGIN:VCALENDAR
VERSION:2.0
PRODID:-//https://eruuf.org///NONSGML kigkonsult.se iCalcreator 2.10.15//
METHOD:PUBLISH
BEGIN:VEVENT
UID:20260420T024551UTC-3915WrDs1f@https://eruuf.org/
DTSTAMP:20260420T024551Z
DESCRIPTION:SUN.\, JAN. 25 IS CANCELED DUE TO WEATHER.\n Are you in Grades 
 4-8 and would like to participate in the Chalice Singers? Join us starting
  Sun.\, Sept. 7 between services!\nFor more information\, email chalicesin
 gers@eruuf.org.  https://eruuf.org/calendar/calendar-view/event/15818-chal
 ice-singers-choir-rehearsal.html
DTSTART:20260125T151500Z
DTEND:20260125T155000Z
LOCATION:ERUUF Campus   (4907 Garrett Rd\, Durham\, NC 27707    )
SUMMARY:Chalice Singers Choir Rehearsal - CANCELED
URL:https://eruuf.org/calendar/calendar-view/event/15818-chalice-singers-ch
 oir-rehearsal.html
END:VEVENT
END:VCALENDAR
