BEGIN:VCALENDAR
VERSION:2.0
PRODID:-//https://eruuf.org///NONSGML kigkonsult.se iCalcreator 2.10.15//
METHOD:PUBLISH
BEGIN:VEVENT
UID:20260420T011513UTC-8277vGNNcM@https://eruuf.org/
DTSTAMP:20260420T011513Z
DESCRIPTION:Are you in Grades 4-8 and would like to participate in the Chal
 ice Singers? Join us starting Sun.\, Sept. 7 between services!\nFor more i
 nformation\, email chalicesingers@eruuf.org.  https://eruuf.org/calendar/c
 alendar-view/event/15834-chalice-singers-choir-rehearsal.html
DTSTART:20260517T141500Z
DTEND:20260517T145000Z
LOCATION:ERUUF Campus   (4907 Garrett Rd\, Durham\, NC 27707    )
SUMMARY:Chalice Singers Choir Rehearsal
URL:https://eruuf.org/calendar/calendar-view/event/15834-chalice-singers-ch
 oir-rehearsal.html
END:VEVENT
END:VCALENDAR
