BEGIN:VCALENDAR
VERSION:2.0
PRODID:-//https://eruuf.org///NONSGML kigkonsult.se iCalcreator 2.10.15//
METHOD:PUBLISH
BEGIN:VEVENT
UID:20260421T110120UTC-1134vGlGaz@https://eruuf.org/
DTSTAMP:20260421T110120Z
DESCRIPTION:Join us for the first of our Deep Canvassing trainings this Fal
 l! Learn how to talk through stigma and misconceptions to build support fo
 r trans rights and the LGBTQ movement. This training is required to be a d
 eep canvassing volunteer with Planned Parenthood. Lunch will be provided.
 \nWill be in Room 1 and Room 2 in the CARE Building.\nCo-sponsored by ERUU
 F's Reproductive Justice and Pride+ Action Groups.\nRegister Here\n(Link t
 akes you to Planned Parenthood) https://eruuf.org/calendar/calendar-view/e
 vent/15838-triangle-deep-canvassing-training-for-lgbtq-and-trans-rights.ht
 ml
DTSTART:20250920T140000Z
DTEND:20250920T220000Z
LOCATION:Commons Room   (4907 Garrett Rd\, Durham\, NC 27707  )
SUMMARY:Triangle Deep Canvassing Training for LGBTQ and Trans Rights
URL:https://eruuf.org/calendar/calendar-view/event/15838-triangle-deep-canv
 assing-training-for-lgbtq-and-trans-rights.html
END:VEVENT
END:VCALENDAR
