BEGIN:VCALENDAR
VERSION:2.0
PRODID:-//https://eruuf.org///NONSGML kigkonsult.se iCalcreator 2.10.15//
METHOD:PUBLISH
BEGIN:VEVENT
UID:20260420T232329UTC-3746zE7XCe@https://eruuf.org/
DTSTAMP:20260420T232329Z
DESCRIPTION:\n \nInviting faith leaders from other groups to gather and par
 ticipate in offering an event for spiritual queer folks. Sanctuary opens a
 t 6:45pm. https://eruuf.org/calendar/calendar-view/event/15853-multifaith-
 pride-vespers.html
DTSTART:20250925T230000Z
DTEND:20250926T003000Z
LOCATION:Sanctuary - ERUUF   (4907 Garrett Road\, Durham\, NC 27707  )
SUMMARY:Multifaith Pride Gathering
URL:https://eruuf.org/calendar/calendar-view/event/15853-multifaith-pride-v
 espers.html
END:VEVENT
END:VCALENDAR
