BEGIN:VCALENDAR
VERSION:2.0
PRODID:-//https://eruuf.org///NONSGML kigkonsult.se iCalcreator 2.10.15//
METHOD:PUBLISH
BEGIN:VEVENT
UID:20260423T102417UTC-6837STxGiz@https://eruuf.org/
DTSTAMP:20260423T102417Z
DESCRIPTION:The Nov. 19\, 2025 class has been canceled.\nClass with the Min
 ister\nLife is full of situations that pull us off center. What helps you 
 to connect and center? There are practical exercises that can enable us to
  respond and reset in the face of everything going on in the world. The ca
 pacity to self-regulate\, in a healthy way\, is one of the most important 
 life skills we can learn. In this three-week class we will engage practice
 s to activate our inner compass\, the part within our being that guides us
  to a place of greater knowing\, greater giving\, and greater peace.\nRegi
 ster Here https://eruuf.org/calendar/calendar-view/event/15857-class-with-
 the-minister.html
DTSTART:20251119T170000Z
DTEND:20251119T181500Z
LOCATION:Fellowship Hall   ()
SUMMARY:Class with the Minister: The Practice of Centering - CANCELED
URL:https://eruuf.org/calendar/calendar-view/event/15857-class-with-the-min
 ister.html
END:VEVENT
END:VCALENDAR
