BEGIN:VCALENDAR
VERSION:2.0
PRODID:-//https://eruuf.org///NONSGML kigkonsult.se iCalcreator 2.10.15//
METHOD:PUBLISH
BEGIN:VEVENT
UID:20260420T045449UTC-2782u6kO38@https://eruuf.org/
DTSTAMP:20260420T045449Z
DESCRIPTION:Unleash your rhythm and join the Eno River Drummers (also known
  at River Rhythms) every Thursday evening\, 7:00-8:30 PM in the CARE Build
 ing for West African Drumming! All experience levels are welcome—just brin
 g your hands and your heartbeat. Free and open to members and non-members 
 alike! It’s not a performance. It’s a shared experience.\nLet the drums sp
 eak.\nLet the stress melt.\nLet your spirit rise.\nWe hope to see you ther
 e!\nFor more information contact: Beth https://eruuf.org/calendar/calendar
 -view/event/15878-eno-river-drum-circle.html
DTSTART:20260123T000000Z
DTEND:20260123T013000Z
LOCATION:ERUUF Commons Room (4907 Garrett Road)
SUMMARY:Eno River Drum Circle
URL:https://eruuf.org/calendar/calendar-view/event/15878-eno-river-drum-cir
 cle.html
END:VEVENT
END:VCALENDAR
