BEGIN:VCALENDAR
VERSION:2.0
PRODID:-//https://eruuf.org///NONSGML kigkonsult.se iCalcreator 2.10.15//
METHOD:PUBLISH
BEGIN:VEVENT
UID:20260424T072014UTC-0921emdoHg@https://eruuf.org/
DTSTAMP:20260424T072014Z
DESCRIPTION:ERUUF's Pride+ Action Group will be representing ERUUF at the D
 urham Pride Parade on Sat.\, Sept. 27 from 12pm - 2pm on Durham's East Cam
 pus. Pride+ will hand out buttons and stickers promoting ERUUF. We hope to
  see you there! \nFor more information on Durham Pride 2025\, please visit
  the LGBTQ Center of Durham.\nFor more informaiton on Pride+'s participati
 on\, please reach out to the Pride+ Group. https://eruuf.org/calendar/cale
 ndar-view/event/15896-pride-at-the-durham-pride-parade.html
DTSTART:20250927T160000Z
DTEND:20250927T180000Z
LOCATION:Offsite ()
SUMMARY:Pride+ at the Durham Pride Parade
URL:https://eruuf.org/calendar/calendar-view/event/15896-pride-at-the-durha
 m-pride-parade.html
END:VEVENT
END:VCALENDAR
