BEGIN:VCALENDAR
VERSION:2.0
PRODID:-//https://eruuf.org///NONSGML kigkonsult.se iCalcreator 2.10.15//
METHOD:PUBLISH
BEGIN:VEVENT
UID:20260421T080543UTC-0710eROrJA@https://eruuf.org/
DTSTAMP:20260421T080543Z
DESCRIPTION:Kick off the new program year with the 20's & 30's Group! We’ll
  do some speedy introductions\, play games\, and vote on activities for fu
 ture gatherings.\nFor more information\, please contact the 20's & 30's Gr
 oup. https://eruuf.org/calendar/calendar-view/event/15898-20-s-30-s-group-
 kick-off-meeting.html
DTSTART:20251004T183000Z
DTEND:20251004T203000Z
LOCATION:Fellowship Hall   ()
SUMMARY:20's & 30's Group: Break the Ice
URL:https://eruuf.org/calendar/calendar-view/event/15898-20-s-30-s-group-ki
 ck-off-meeting.html
END:VEVENT
END:VCALENDAR
