BEGIN:VCALENDAR
VERSION:2.0
PRODID:-//https://eruuf.org///NONSGML kigkonsult.se iCalcreator 2.10.15//
METHOD:PUBLISH
BEGIN:VEVENT
UID:20260421T083648UTC-9483o7XgbU@https://eruuf.org/
DTSTAMP:20260421T083648Z
DESCRIPTION:Are you a trans\, non-binary or gender non-conforming adult? Pl
 ease join us for our first monthly social gathering. We will have arts and
  crafts supplies available. Food will not be provided but folks are welcom
 e to bring a packed lunch. For more information\, please contact Cam. http
 s://eruuf.org/calendar/calendar-view/event/15900-trans-eruuf.html
DTSTART:20251005T170000Z
DTEND:20251005T183000Z
LOCATION:Room 3 - CARE Building ()
SUMMARY:Trans @ ERUUF
URL:https://eruuf.org/calendar/calendar-view/event/15900-trans-eruuf.html
END:VEVENT
END:VCALENDAR
