BEGIN:VCALENDAR
VERSION:2.0
PRODID:-//https://eruuf.org///NONSGML kigkonsult.se iCalcreator 2.10.15//
METHOD:PUBLISH
BEGIN:VEVENT
UID:20260420T223504UTC-3973FfcPVT@https://eruuf.org/
DTSTAMP:20260420T223504Z
DESCRIPTION:Wednesdays\, October 8\, 15\, 22\, 29\, and November 56:30 – 8:
 00 pmFormat: Drop-in (regular attendance encouraged)Facilitated by Rev. Ji
 m Lewis\nWhat would it be like to process your religious past\, acknowledg
 ing where there is pain and considering if there is anything you might wan
 t to integrate into your current experiences? Through personal reflection\
 , discussion\, connection\, and activities\, we will examine where we have
  been. Open to all\, newer UUs\, life-long UUs and everyone in between.\nR
 egister Here https://eruuf.org/calendar/calendar-view/event/15905-class-wi
 th-the-minister-address-your-religious-past.html
DTSTART:20251105T233000Z
DTEND:20251106T010000Z
LOCATION:Fellowship Hall   ()
SUMMARY:Class with the Minister: Meeting Your Religious Past
URL:https://eruuf.org/calendar/calendar-view/event/15905-class-with-the-min
 ister-address-your-religious-past.html
END:VEVENT
END:VCALENDAR
