BEGIN:VCALENDAR
VERSION:2.0
PRODID:-//https://eruuf.org///NONSGML kigkonsult.se iCalcreator 2.10.15//
METHOD:PUBLISH
BEGIN:VEVENT
UID:20260421T025423UTC-6291vmZxoK@https://eruuf.org/
DTSTAMP:20260421T025423Z
DESCRIPTION:\n \nJoin the Pride+ Group for an informal meeting over Zoom! C
 ontact the Pride+ Group for the Zoom link. https://eruuf.org/calendar/cale
 ndar-view/event/15909-pride-informal-zoom-chat.html
DTSTART:20251005T190000Z
DTEND:20251005T203000Z
LOCATION:Zoom Meeting ()
SUMMARY:Pride+ Informal Zoom Chat
URL:https://eruuf.org/calendar/calendar-view/event/15909-pride-informal-zoo
 m-chat.html
END:VEVENT
END:VCALENDAR
