BEGIN:VCALENDAR
VERSION:2.0
PRODID:-//https://eruuf.org///NONSGML kigkonsult.se iCalcreator 2.10.15//
METHOD:PUBLISH
BEGIN:VEVENT
UID:20260420T233036UTC-2399ZkxNNE@https://eruuf.org/
DTSTAMP:20260420T233036Z
DESCRIPTION:Join us for games night on Friday\, October 17 at 7 pm in the E
 RUUF Commons Room. All are welcome (LGBTQ+ and allies).Bring your own boar
 d or card games\, drinks (no alcohol please) and snacks. For more informat
 ion\, please email the Pride+ Group. https://eruuf.org/calendar/calendar-v
 iew/event/15910-pride-games-night.html
DTSTART:20251017T230000Z
DTEND:20251018T010000Z
LOCATION:Commons Room   (4907 Garrett Rd\, Durham\, NC 27707  )
SUMMARY:Pride+ Games Night
URL:https://eruuf.org/calendar/calendar-view/event/15910-pride-games-night.
 html
END:VEVENT
END:VCALENDAR
