BEGIN:VCALENDAR
VERSION:2.0
PRODID:-//https://eruuf.org///NONSGML kigkonsult.se iCalcreator 2.10.15//
METHOD:PUBLISH
BEGIN:VEVENT
UID:20260425T031952UTC-782910Vz2C@https://eruuf.org/
DTSTAMP:20260425T031952Z
DESCRIPTION:Did you know that we have a bin in the office for shelf-stable 
 food that goes to the Urban Ministries of Durham’s Food Pantry? This food 
 is distributed to families and individuals who are struggling to feed them
 selves and their families. With the recent government cut-backs\, food ban
 ks and pantries are struggling to make up the difference.\nWe can help. \n
 On 1st Sundays\, there will also be a collection bin in the Fellowship Hal
 l for you to drop off your donations.\nThis month’s greatest needs: \nPean
 ut butter\nPasta Sauce (no glass jars)\nCanned or boxed pasta\nCanned meat
 s (chicken\, tuna) https://eruuf.org/calendar/calendar-view/event/15918-fo
 od-pantry-for-urban-ministries.html
DTSTART:20251005T133000Z
DTEND:20251005T163000Z
LOCATION:Fellowship Hall   ()
SUMMARY:Food Pantry for Urban Ministries
URL:https://eruuf.org/calendar/calendar-view/event/15918-food-pantry-for-ur
 ban-ministries.html
END:VEVENT
END:VCALENDAR
