BEGIN:VCALENDAR
VERSION:2.0
PRODID:-//https://eruuf.org///NONSGML kigkonsult.se iCalcreator 2.10.15//
METHOD:PUBLISH
BEGIN:VEVENT
UID:20260424T135633UTC-5620IR1pNu@https://eruuf.org/
DTSTAMP:20260424T135633Z
DESCRIPTION:This Sunday\, April 5th\, please bring shelf-stable foods to th
 e collection bins in the Fellowship Hall to donate for Urban Ministries of
  Durham. During the rest of each month\, we have bins in the office for yo
 ur food gifts. These desperate times and folks are struggling. We continue
  to need to help fill the shelves at Urban Ministries for our hungry neigh
 bors.\nThis month’s greatest needs:\n• Peanut butter\n• Pasta Sauce (no gl
 ass jars)\n• Canned or boxed pasta\n• Canned meats (chicken\, tuna)\n• Cer
 eal\n• Canned Fruit https://eruuf.org/calendar/calendar-view/event/15922-f
 ood-pantry-for-urban-ministries.html
DTSTART:20260405T133000Z
DTEND:20260405T163000Z
LOCATION:Fellowship Hall   ()
SUMMARY:Food Pantry for Urban Ministries
URL:https://eruuf.org/calendar/calendar-view/event/15922-food-pantry-for-ur
 ban-ministries.html
END:VEVENT
END:VCALENDAR
